BEGIN:VCALENDAR
VERSION:2.0
PRODID:-//Northern San Joaquin Veterinary Medical Association - ECPv6.15.9//NONSGML v1.0//EN
CALSCALE:GREGORIAN
METHOD:PUBLISH
X-ORIGINAL-URL:https://nsjvma.com
X-WR-CALDESC:Events for Northern San Joaquin Veterinary Medical Association
REFRESH-INTERVAL;VALUE=DURATION:PT1H
X-Robots-Tag:noindex
X-PUBLISHED-TTL:PT1H
BEGIN:VTIMEZONE
TZID:America/Los_Angeles
BEGIN:DAYLIGHT
TZOFFSETFROM:-0800
TZOFFSETTO:-0700
TZNAME:PDT
DTSTART:20220313T100000
END:DAYLIGHT
BEGIN:STANDARD
TZOFFSETFROM:-0700
TZOFFSETTO:-0800
TZNAME:PST
DTSTART:20221106T090000
END:STANDARD
BEGIN:DAYLIGHT
TZOFFSETFROM:-0800
TZOFFSETTO:-0700
TZNAME:PDT
DTSTART:20230312T100000
END:DAYLIGHT
BEGIN:STANDARD
TZOFFSETFROM:-0700
TZOFFSETTO:-0800
TZNAME:PST
DTSTART:20231105T090000
END:STANDARD
BEGIN:DAYLIGHT
TZOFFSETFROM:-0800
TZOFFSETTO:-0700
TZNAME:PDT
DTSTART:20240310T100000
END:DAYLIGHT
BEGIN:STANDARD
TZOFFSETFROM:-0700
TZOFFSETTO:-0800
TZNAME:PST
DTSTART:20241103T090000
END:STANDARD
END:VTIMEZONE
BEGIN:VEVENT
DTSTART;TZID=America/Los_Angeles:20230803T183000
DTEND;TZID=America/Los_Angeles:20230803T200000
DTSTAMP:20260420T113836
CREATED:20230602T000003Z
LAST-MODIFIED:20240208T235119Z
UID:2389-1691087400-1691092800@nsjvma.com
SUMMARY:USDA ACCREDITATION RENEWAL - Modules 19 & 23
DESCRIPTION:*No Prorated Membership Fee for Late Registrations
URL:https://nsjvma.com/event/usda-accreditation-renewal-august-3rd/
LOCATION:Beckwith Veterinary Hospital\, 3232 Beckwith Court\, Modesto\, CA\, 95358\, United States
CATEGORIES:Avian (non-poultry),Bovine,Camelid,Canine,Equine,Exotic,Feline,General,Ovine/Caprine,Porcine,Poultry
END:VEVENT
BEGIN:VEVENT
DTSTART;TZID=America/Los_Angeles:20230727T183000
DTEND;TZID=America/Los_Angeles:20230727T200000
DTSTAMP:20260420T113836
CREATED:20230601T235657Z
LAST-MODIFIED:20240208T235207Z
UID:2382-1690482600-1690488000@nsjvma.com
SUMMARY:USDA ACCREDITATION RENEWAL - Modules 22 & 25
DESCRIPTION:*No Prorated Membership Fee for Late Registrations
URL:https://nsjvma.com/event/usda-accreditation-renewal-july-27/
LOCATION:Beckwith Veterinary Hospital\, 3232 Beckwith Court\, Modesto\, CA\, 95358\, United States
CATEGORIES:Avian (non-poultry),Bovine,Camelid,Canine,Equine,Exotic,Feline,General,Ovine/Caprine,Porcine,Poultry
END:VEVENT
BEGIN:VEVENT
DTSTART;TZID=America/Los_Angeles:20230727T110000
DTEND;TZID=America/Los_Angeles:20230727T120000
DTSTAMP:20260420T113836
CREATED:20230513T151746Z
LAST-MODIFIED:20240208T235232Z
UID:2356-1690455600-1690459200@nsjvma.com
SUMMARY:Free CE Webinar: Veterinary Medical Board Enforcement Webinar - July 27\, 2023
DESCRIPTION:*No Prorated Membership Fee for Late Registrations
URL:https://nsjvma.com/event/free-ce-webinar-the-general-practitioners-guide-to-corneal-ulcers-heska-may-19-2023/
CATEGORIES:Avian (non-poultry),Bovine,Camelid,Canine,Equine,Exotic,Feline,General,Ovine/Caprine,Porcine,Poultry
END:VEVENT
BEGIN:VEVENT
DTSTART;TZID=America/Los_Angeles:20230726T183000
DTEND;TZID=America/Los_Angeles:20230726T200000
DTSTAMP:20260420T113836
CREATED:20230710T023530Z
LAST-MODIFIED:20240208T235253Z
UID:2446-1690396200-1690401600@nsjvma.com
SUMMARY:NSJVMA Social Event - The Smart Axe - Modesto - July 26\, 2023 - 6:30 pm
DESCRIPTION:*No Prorated Membership Fee for Late Registrations
URL:https://nsjvma.com/event/2446/
CATEGORIES:Avian (non-poultry),Bovine,Camelid,Canine,Equine,Exotic,Feline,General,Ovine/Caprine,Porcine,Poultry
END:VEVENT
BEGIN:VEVENT
DTSTART;TZID=America/Los_Angeles:20230713T183000
DTEND;TZID=America/Los_Angeles:20230713T200000
DTSTAMP:20260420T113836
CREATED:20230601T235120Z
LAST-MODIFIED:20240208T235314Z
UID:2377-1689273000-1689278400@nsjvma.com
SUMMARY:USDA Accreditation Renewal - Modules 9 & 34
DESCRIPTION:*No Prorated Membership Fee for Late Registrations
URL:https://nsjvma.com/event/usda-accreditation-renewal-sessions-july-13/
LOCATION:Beckwith Veterinary Hospital\, 3232 Beckwith Court\, Modesto\, CA\, 95358\, United States
CATEGORIES:Avian (non-poultry),Bovine,Camelid,Canine,Equine,Exotic,Feline,General,Ovine/Caprine,Porcine,Poultry
END:VEVENT
BEGIN:VEVENT
DTSTART;TZID=America/Los_Angeles:20230615T183000
DTEND;TZID=America/Los_Angeles:20230615T203000
DTSTAMP:20260420T113836
CREATED:20230312T210716Z
LAST-MODIFIED:20240208T235334Z
UID:2275-1686853800-1686861000@nsjvma.com
SUMMARY:Approach to Dermatological Diagnosis
DESCRIPTION:*No Prorated Membership Fee for Late Registrations
URL:https://nsjvma.com/event/updates-in-small-animal-dermatology/
LOCATION:Camp 4\, 1504 10th street\, Modesto\, CA\, 95354\, United States
CATEGORIES:Avian (non-poultry),Bovine,Camelid,Canine,Equine,Exotic,Feline,General,Ovine/Caprine,Porcine,Poultry
ORGANIZER;CN="NSJVMA":MAILTO:nsjvma@gmail.com
END:VEVENT
BEGIN:VEVENT
DTSTART;TZID=America/Los_Angeles:20230516T000000
DTEND;TZID=America/Los_Angeles:20230516T010000
DTSTAMP:20260420T113836
CREATED:20230513T145659Z
LAST-MODIFIED:20230513T145659Z
UID:2348-1684195200-1684198800@nsjvma.com
SUMMARY:World Association of Buiatrics - Webinar - May 16\, 2023
DESCRIPTION:*No Prorated Membership Fee for Late Registrations
URL:https://nsjvma.com/event/world-association-of-buiatrics-webinar-may-16-2023/
CATEGORIES:Avian (non-poultry),Bovine,Camelid,Canine,Equine,Exotic,Feline,General,Ovine/Caprine,Porcine,Poultry
END:VEVENT
BEGIN:VEVENT
DTSTART;TZID=America/Los_Angeles:20230510T120000
DTEND;TZID=America/Los_Angeles:20230510T130000
DTSTAMP:20260420T113836
CREATED:20230220T050934Z
LAST-MODIFIED:20230220T050934Z
UID:2222-1683720000-1683723600@nsjvma.com
SUMMARY:AABP CE Webinar: DEI & Its Relevance to Veterinary Medicine - May 10\, 2023
DESCRIPTION:*No Prorated Membership Fee for Late Registrations
URL:https://nsjvma.com/event/aabp-ce-webinar-dei-its-relevance-to-veterinary-medicine-may-10-2023/
CATEGORIES:Avian (non-poultry),Bovine,Camelid,Canine,Equine,Exotic,Feline,General,Ovine/Caprine,Porcine,Poultry
END:VEVENT
BEGIN:VEVENT
DTSTART;TZID=America/Los_Angeles:20230322T170000
DTEND;TZID=America/Los_Angeles:20230322T170000
DTSTAMP:20260420T113836
CREATED:20230312T075224Z
LAST-MODIFIED:20230312T075224Z
UID:2264-1679504400-1679504400@nsjvma.com
SUMMARY:CVMA Online Seminar: Sexual Harassment Prevention Education and Training Information\, March 22 & 28\, 2023
DESCRIPTION:*No Prorated Membership Fee for Late Registrations
URL:https://nsjvma.com/event/cvma_sexual_harassment_training/
CATEGORIES:Avian (non-poultry),Bovine,Camelid,Canine,Equine,Exotic,Feline,General,Ovine/Caprine,Porcine,Poultry
END:VEVENT
BEGIN:VEVENT
DTSTART;TZID=America/Los_Angeles:20230221T170000
DTEND;TZID=America/Los_Angeles:20230221T180000
DTSTAMP:20260420T113836
CREATED:20230220T052155Z
LAST-MODIFIED:20230220T052640Z
UID:2226-1676998800-1677002400@nsjvma.com
SUMMARY:VPAP Orientation Webinar - Tuesday\, Feb. 21\, 2023
DESCRIPTION:*No Prorated Membership Fee for Late Registrations
URL:https://nsjvma.com/event/vpap-orientation-webinar-tuesday-feb-21-2023/
CATEGORIES:Avian (non-poultry),Bovine,Camelid,Canine,Equine,Exotic,Feline,General,Ovine/Caprine,Porcine,Poultry
END:VEVENT
BEGIN:VEVENT
DTSTART;TZID=America/Los_Angeles:20230221T160000
DTEND;TZID=America/Los_Angeles:20230221T170000
DTSTAMP:20260420T113836
CREATED:20230131T004358Z
LAST-MODIFIED:20230131T004646Z
UID:2167-1676995200-1676998800@nsjvma.com
SUMMARY:Free CE Webinar: The Path to Productivity and Balance - Feb 21\, 2023
DESCRIPTION:*No Prorated Membership Fee for Late Registrations
URL:https://nsjvma.com/event/free-ce-webinar-the-path-to-productivity-and-balance-feb-21-2023/
CATEGORIES:Avian (non-poultry),Bovine,Camelid,Canine,Equine,Exotic,Feline,General,Ovine/Caprine,Porcine,Poultry
ATTACH;FMTTYPE=image/jpeg:https://nsjvma.com/wp-content/uploads/2023/01/Free-webinar-productivity-21Feb2023.jpg
END:VEVENT
END:VCALENDAR